BEGIN:VCALENDAR
VERSION:2.0
PRODID:-//eventon.com NONSGML v1.0//EN
CALSCALE:GREGORIAN
METHOD:PUBLISH
BEGIN:VEVENT
UID:69e7366a35eda
DTSTAMP:20260421T083346Z
DTSTART:20191109
DTEND:20191110
LOCATION:Frankfurt am Main
SUMMARY:Länderkonferenz
DESCRIPTION:Tagung der Delegierten der einzelnen Landesverbände\nhttps://w
 ww.dtkv-brandenburg.de/events/laenderkonferenz
URL:https://www.dtkv-brandenburg.de/events/laenderkonferenz
END:VEVENT
END:VCALENDAR